BEGIN:VCALENDAR
VERSION:2.0
PRODID:-//Plone.org//NONSGML plone.app.event//EN
X-WR-TIMEZONE:Europe/Helsinki
BEGIN:VEVENT
SUMMARY:Konferencia Desaťročie oceánov 2024
DTSTART;VALUE=DATE:20240410
DTEND;VALUE=DATE:20240414
DTSTAMP:20260420T083002Z
UID:742153a0e76c40df98bdecdcef045fd5@climate-adapt.eea.europa.eu
CATEGORIES:event,Coastal areas and oceans
CONTACT:https://oceandecade.org/events/2024-ocean-decade-conference/
CREATED:20250419T075433Z
DESCRIPTION:Táto celosvetová konferencia spája komunitu Desaťročie oc
 eánov\, ktorá vznikla na základe Dekády OSN pre vedu o oceánoch pre u
 držateľný rozvoj (2021 – 2030)\, a partnerov s cieľom diskutovať a 
 oslavovať úspechy a stanoviť spoločné priority pre budúcnosť desať
 ročia. Konferencia bude zahŕňať viac ako desiatky satelitných podujat
 í\, ktoré sa budú zaoberať kritickými otázkami\, ako je adaptácia n
 a zmenu klímy\, udržateľné riadenie biodiverzity a prírodné nebezpe
 čenstvá.
LAST-MODIFIED:20250419T075434Z
LOCATION:Barcelona\, Spain
URL:https://climate-adapt.eea.europa.eu/sk/more-events/2024-ocean-decade-c
 onference
END:VEVENT
END:VCALENDAR
