BEGIN:VCALENDAR
VERSION:2.0
PRODID:-//Plone.org//NONSGML plone.app.event//EN
X-WR-TIMEZONE:Europe/Helsinki
BEGIN:VEVENT
SUMMARY:Konferencia a ampér o službách v oblasti zmeny klímy programu 
 Copernicus\; valné zhromaždenie
DTSTART;VALUE=DATE:20210518
DTEND;VALUE=DATE:20210522
DTSTAMP:20260419T193850Z
UID:c4d8a0a7618d44e2b46992e75508bce6@varnish:6081
CATEGORIES:event
CONTACT:https://climate.copernicus.eu/c3s-conference-general-assembly?q=c3
 s-4th-general-assembly
CREATED:20250419T075803Z
DESCRIPTION:Zaujímate sa o klimatické riziká a odolnosť voči zmene kl
 ímy? Zapojte sa do konferencie a amp\; valného zhromaždenia služby mon
 itorovania zmeny klímy programu Copernicus (C3S)\; tri popoludnia online 
 prezentácií a diskusie o najnovšom vývoji v oblasti monitorovania klí
 my s rečníkmi a účastníkmi panelovej diskusie z popredných medzinár
 odných výskumných ústavov\, vládnych služieb a inovátorov zo súkro
 mného sektora.
LAST-MODIFIED:20250419T075803Z
LOCATION:Online
URL:https://climate-adapt.eea.europa.eu/sk/more-events/c3s-conference-gene
 ral-assembly
END:VEVENT
END:VCALENDAR
