BEGIN:VCALENDAR
VERSION:2.0
PRODID:-//Plone.org//NONSGML plone.app.event//EN
X-WR-TIMEZONE:Europe/Helsinki
BEGIN:VEVENT
SUMMARY:samit Gaia Artic 2024
DTSTART;VALUE=DATE:20240606
DTEND;VALUE=DATE:20240609
DTSTAMP:20260421T160711Z
UID:407c229d46b546249353e588c7a71d9e@next-climate-adapt.eea.europa.eu
CATEGORIES:event
CONTACT:https://gaiaarcticsummit.eco/
CREATED:20240528T154034Z
DESCRIPTION:Samit Gaia Arctic 2024\, ktorý spolufinancuje EÚ\, je medzin
 árodnou konferenciou o klíme\, ktorej cieľom je riešiť naliehavé ot
 ázky súvisiace so zmenou klímy s osobitným zameraním na morské a pob
 režné komunity na severe.
LAST-MODIFIED:20250419T080852Z
LOCATION:Sortland\, Norway
URL:https://climate-adapt.eea.europa.eu/sk/more-events/gaia-artic-summit-2
 024
END:VEVENT
END:VCALENDAR
