BEGIN:VCALENDAR
VERSION:2.0
PRODID:-//Plone.org//NONSGML plone.app.event//EN
X-WR-TIMEZONE:Europe/Helsinki
BEGIN:VEVENT
SUMMARY:Webinár: zdroje údajov na vypracovanie a vykonávanie plánov ad
 aptácie miest v Poľsku
DTSTART;TZID=Europe/Helsinki:20250402T110000
DTEND;TZID=Europe/Helsinki:20250402T133000
DTSTAMP:20260420T174000Z
UID:cd385b5c3b3e4f9693440db610afde30@climate-adapt.eea.europa.eu
CATEGORIES:event,webinar,climate adaptation plan
CONTACT:https://klimat.webex.com/weblink/register/re9bf603c684605f260b1ac3
 ef38335f9
CREATED:20250419T124714Z
DESCRIPTION:Tento webinár\, ktorý organizuje poľské ministerstvo klím
 y a životného prostredia (Ministerstwo Klimatu i Środowiska)\, poskytuj
 e prehľad dostupných zdrojov údajov na poľskej aj európskej úrovni. 
 Účastníci získajú prehľad o tom\, ako účinne využívať tieto zdr
 oje údajov na vypracovanie a vykonávanie plánov adaptácie miest so zam
 eraním na praktické nástroje\, metodiky a prípadové štúdie. Webiná
 r sa bude konať v poľštine so simultánnym prekladom do angličtiny.
LAST-MODIFIED:20250419T124717Z
LOCATION:Online
URL:https://climate-adapt.eea.europa.eu/sk/more-events/webinar-data-source
 s-for-developing-and-implementing-urban-adaptation-plans
END:VEVENT
BEGIN:VTIMEZONE
TZID:Europe/Helsinki
X-LIC-LOCATION:Europe/Helsinki
BEGIN:DAYLIGHT
DTSTART:20250330T040000
TZNAME:EEST
TZOFFSETFROM:+0200
TZOFFSETTO:+0300
END:DAYLIGHT
END:VTIMEZONE
END:VCALENDAR
