BEGIN:VCALENDAR
VERSION:2.0
PRODID:-//Plone.org//NONSGML plone.app.event//EN
X-WR-TIMEZONE:Europe/Helsinki
BEGIN:VEVENT
SUMMARY:Konferenca o desetletju oceanov 2024
DTSTART;VALUE=DATE:20240410
DTEND;VALUE=DATE:20240414
DTSTAMP:20260420T012609Z
UID:742153a0e76c40df98bdecdcef045fd5@climate-adapt.eea.europa.eu
CATEGORIES:event,Coastal areas and oceans
CONTACT:https://oceandecade.org/events/2024-ocean-decade-conference/
CREATED:20250419T193957Z
DESCRIPTION:Na tej svetovni konferenci se bodo zbrali skupnost oceanskega 
 desetletja\, ustanovljena v okviru pobude OZN Desetletje oceanskih znanost
 i za trajnostni razvoj (2021–2030)\, in partnerji\, da bi razpravljali o
  dosežkih in jih proslavili ter določili skupne prednostne naloge za pri
 hodnost desetletja. Na konferenci bo predstavljenih več deset satelitskih
  dogodkov\, ki bodo obravnavali kritična vprašanja\, kot so prilagajanje
  podnebnim spremembam\, trajnostno upravljanje biotske raznovrstnosti in n
 aravne nesreče.
LAST-MODIFIED:20250419T193957Z
LOCATION:Barcelona\, Spain
URL:https://climate-adapt.eea.europa.eu/sl/more-events/2024-ocean-decade-c
 onference
END:VEVENT
END:VCALENDAR
