BEGIN:VCALENDAR
VERSION:2.0
PRODID:-//Plone.org//NONSGML plone.app.event//EN
X-WR-TIMEZONE:Europe/Helsinki
BEGIN:VEVENT
SUMMARY:6. letni seminar Centra znanja za obvladovanje tveganja nesreč
DTSTART;TZID=Europe/Helsinki:20221122T140000
DTEND;TZID=Europe/Helsinki:20221123T170000
DTSTAMP:20260420T061003Z
UID:14957e0b32f84b8cb8f58696a29aac36@varnish:6081
CATEGORIES:Risk analysis,Complex climate change hazards,Scientific communi
 ty
CONTACT:ec-drmkc-annual-seminar@ec.europa.eu\, https://drmkc.jrc.ec.europa
 .eu/events-news/drmkc-annual-seminars/6th-drmkc-annual-seminar
CREATED:20250419T194131Z
DESCRIPTION:Namen tega dvodnevnega dogodka DRMKC je deliti dosežke znanst
 venega stebra mreže znanja Unije na področju civilne zaščite (UCPKN) p
 ri obravnavanju izzivov\, kot so med drugim sestavljeni\, sočasni in kask
 adni dogodki\, ki jih je treba vključiti v analizo tveganja ali komunikac
 ijske izzive pri obvladovanju tveganja. Skupaj s francoskim ministrstvom z
 a notranje zadeve organizira hibridni dogodek\, ki ga skupaj organizirata 
 GD ECHO v Parizu.
LAST-MODIFIED:20250419T194131Z
LOCATION:Paris\, France / hybrid
URL:https://climate-adapt.eea.europa.eu/sl/more-events/6th-drmkc-annual-se
 minar-1
END:VEVENT
BEGIN:VTIMEZONE
TZID:Europe/Helsinki
X-LIC-LOCATION:Europe/Helsinki
BEGIN:STANDARD
DTSTART:20221030T030000
TZNAME:EET
TZOFFSETFROM:+0300
TZOFFSETTO:+0200
END:STANDARD
END:VTIMEZONE
END:VCALENDAR
