BEGIN:VCALENDAR
VERSION:2.0
PRODID:-//Plone.org//NONSGML plone.app.event//EN
X-WR-TIMEZONE:Europe/Helsinki
BEGIN:VEVENT
SUMMARY:Delavnica sodelovanja uporabnikov C3S z alpsko skupnostjo uporabni
 kov
DTSTART;TZID=Europe/Helsinki:20250311T150000
DTEND;TZID=Europe/Helsinki:20250311T180000
DTSTAMP:20260419T200239Z
UID:acb112a160034f44952fccbf916dc202@climate-adapt.eea.europa.eu
CATEGORIES:event,C3S,Alpine,climate data
CONTACT:https://climate.copernicus.eu/c3s-user-engagement-workshop-alpine-
 user-community
CREATED:20250419T194435Z
DESCRIPTION:Copernicusova storitev za spremljanje podnebnih sprememb (C3S)
 \, ki jo financira EU\, ob podpori Alpske konvencije organizira spletno de
 lavnico\, namenjeno uporabi podnebnih podatkov in storitev v alpski regiji
 . Ta poldnevni dogodek je namenjen znanstvenikom\, političnim uradnikom i
 n strokovnim delavcem\, ki uporabljajo ali želijo uporabljati podatke C3S
  za svoje delo na področju podnebnih sprememb.
LAST-MODIFIED:20250419T194436Z
LOCATION:Online
URL:https://climate-adapt.eea.europa.eu/sl/more-events/c3s-user-engagement
 -workshop-with-the-alpine-user-community
END:VEVENT
BEGIN:VTIMEZONE
TZID:Europe/Helsinki
X-LIC-LOCATION:Europe/Helsinki
BEGIN:STANDARD
DTSTART:20241027T030000
TZNAME:EET
TZOFFSETFROM:+0300
TZOFFSETTO:+0200
END:STANDARD
END:VTIMEZONE
END:VCALENDAR
