BEGIN:VCALENDAR
VERSION:2.0
PRODID:-//Plone.org//NONSGML plone.app.event//EN
X-WR-TIMEZONE:Europe/Helsinki
BEGIN:VEVENT
SUMMARY:Informativni dnevi programa EU LIFE
DTSTART;VALUE=DATE:20250513
DTEND;VALUE=DATE:20250517
DTSTAMP:20260420T033438Z
UID:b569b8f1a1744aceb3f24912c37f1e1e@climate-adapt.eea.europa.eu
CATEGORIES:event,LIFE
CONTACT:https://vo-europe.swoogo.com/eu-life-info-days-2025/Home
CREATED:20250419T153017Z
DESCRIPTION:Na informativnih dnevih LIFE 2025 bodo predstavljeni prihodnji
  razpisi za zbiranje predlogov\, vključno s podprogramom za blažitev pod
 nebnih sprememb in prilagajanje nanje. Program LIFE sofinancira projekte n
 a področjih prilagajanja mest in načrtovanja rabe zemljišč\, odpornost
 i infrastrukture\, trajnostnega upravljanja voda na sušnih območjih\, up
 ravljanja poplav in obalnih območij\, odpornosti kmetijskega\, gozdarskeg
 a in turističnega sektorja in/ali podpore najbolj oddaljenim regijam EU: 
 pripravljenost na ekstremne vremenske pojave\, zlasti na obalnih območjih
 . Zagotavlja nepovratna sredstva za ukrepe za najboljše prakse ter pilotn
 e in predstavitvene projekte\, ki prispevajo k povečanju odpornosti na po
 dnebne spremembe.
LAST-MODIFIED:20250419T153017Z
LOCATION:Online
URL:https://climate-adapt.eea.europa.eu/sl/more-events/eu-life-info-days
END:VEVENT
END:VCALENDAR
