BEGIN:VCALENDAR
VERSION:2.0
PRODID:-//Plone.org//NONSGML plone.app.event//EN
X-WR-TIMEZONE:Europe/Helsinki
BEGIN:VEVENT
SUMMARY:Evropska konferenca o podnebju
DTSTART;VALUE=DATE:20220307
DTEND;VALUE=DATE:20220310
DTSTAMP:20260423T133402Z
UID:cad1cf6ca5d3457ba7b3afc3f12ce102@varnish:6081
CATEGORIES:Climate challenges,Climate neutrality,Urban environments
CONTACT:https://presidence-francaise.consilium.europa.eu/en/events/europea
 n-climate-conference/
CREATED:20250419T195517Z
DESCRIPTION:Na evropski podnebni konferenci\, ki jo organizira francosko p
 redsedstvo Sveta Evropske unije\, se bodo zbrali visoki predstavniki drža
 v članic EU\, Evropske komisije in Evropskega parlamenta ter ugledni pred
 stavniki civilne družbe\, znanstvene skupnosti\, podjetij in lokalnih obl
 asti. Na konferenci bodo med drugim poudarjeni znanje\, potrebe\, rešitve
  in politike za prilagajanje podnebnim spremembam\, zlasti na prednostnih 
 področjih francoskega predsedovanja Svetu\, kot so mestna okolja\, vklju
 čno z obalnimi\, in promet.
LAST-MODIFIED:20250419T195517Z
LOCATION:Nantes\, France
URL:https://climate-adapt.eea.europa.eu/sl/more-events/european-climate-co
 nference
END:VEVENT
END:VCALENDAR
