BEGIN:VCALENDAR
VERSION:2.0
PRODID:-//Plone.org//NONSGML plone.app.event//EN
X-WR-TIMEZONE:Europe/Helsinki
BEGIN:VEVENT
SUMMARY:Usposabljanje vodstvenih delavcev o krepitvi odpornosti na podnebn
 e spremembe
DTSTART;VALUE=DATE:20221024
DTEND;VALUE=DATE:20221027
DTSTAMP:20260419T112347Z
UID:84160d06233646fd9721002832552b3b@varnish:6081
CATEGORIES:Climate services,Resilience to climate change,Climate informati
 on,Climate information
CONTACT:https://www.wemcouncil.org/wp/executive-training-on-building-resil
 ience-to-climate-change/
CREATED:20250419T195658Z
DESCRIPTION:Svetovni svet za energijo in meteorologijo (WEMC) v sodelovanj
 u z Inside Climate Service srl\, Univerzo v Padovi in kolegi na Univerzi V
 zhodne Anglije začenja novo serijo usmerjenih usposabljanj za strokovnjak
 e\, da bi razumeli\, kako se lahko podnebne storitve uporabljajo za načrt
 ovanje\, odločanje\, komunikacijo\, poslovni razvoj in opredelitev strate
 gij za izgradnjo dolgoročne odpornosti na podnebne spremembe. Dogodek bo 
 potekal od 24. do 25. oktobra 2022 v Montegrotto Termah v Italiji.
LAST-MODIFIED:20250419T195658Z
LOCATION:Montegrotto Terme\, Italy
URL:https://climate-adapt.eea.europa.eu/sl/more-events/executive-training-
 on-building-resilience-to-climate-change
END:VEVENT
END:VCALENDAR
