BEGIN:VCALENDAR
VERSION:2.0
PRODID:-//Plone.org//NONSGML plone.app.event//EN
X-WR-TIMEZONE:Europe/Helsinki
BEGIN:VEVENT
SUMMARY:Konferenca FLOODrisk 2016
DTSTART;TZID=Europe/Helsinki:20161017T100000
DTEND;TZID=Europe/Helsinki:20161021T235500
DTSTAMP:20260420T115502Z
UID:be3f0f220afd402bb7b7d5df00113e47@localhost:8000
CONTACT:http://floodrisk2016.net/
CREATED:20250419T195753Z
DESCRIPTION:FLOODrisk 2016 bo raziskoval napredek raziskav na področju an
 alize poplavne ogroženosti in inovacij v praksi obvladovanja poplavne ogr
 oženosti. Konferenca bo obravnavala vse vidike poplavne ogroženosti in o
 bravnavala vzroke poplav\, njihove vplive na ljudi\, lastnino in okolje te
 r portfelje ukrepov za obvladovanje tveganja.
LAST-MODIFIED:20250419T195753Z
LOCATION:Lyon\, France
URL:https://climate-adapt.eea.europa.eu/sl/more-events/floodrisk-2016-conf
 erence
END:VEVENT
BEGIN:VTIMEZONE
TZID:Europe/Helsinki
X-LIC-LOCATION:Europe/Helsinki
BEGIN:DAYLIGHT
DTSTART:20160327T040000
TZNAME:EEST
TZOFFSETFROM:+0200
TZOFFSETTO:+0300
END:DAYLIGHT
END:VTIMEZONE
END:VCALENDAR
