BEGIN:VCALENDAR
VERSION:2.0
PRODID:-//Plone.org//NONSGML plone.app.event//EN
X-WR-TIMEZONE:Europe/Helsinki
BEGIN:VEVENT
SUMMARY:Artični vrh v Gaji 2024
DTSTART;VALUE=DATE:20240606
DTEND;VALUE=DATE:20240609
DTSTAMP:20260419T234913Z
UID:407c229d46b546249353e588c7a71d9e@next-climate-adapt.eea.europa.eu
CATEGORIES:event
CONTACT:https://gaiaarcticsummit.eco/
CREATED:20240528T154108Z
DESCRIPTION:Arktični vrh v Gaji 2024\, ki ga sofinancira EU\, je mednarod
 na podnebna konferenca za obravnavo perečih vprašanj v zvezi s podnebnim
 i spremembami\, s posebnim poudarkom na morskih in obalnih skupnostih na s
 everu.
LAST-MODIFIED:20250419T195844Z
LOCATION:Sortland\, Norway
URL:https://climate-adapt.eea.europa.eu/sl/more-events/gaia-artic-summit-2
 024
END:VEVENT
END:VCALENDAR
