BEGIN:VCALENDAR
VERSION:2.0
PRODID:-//Plone.org//NONSGML plone.app.event//EN
X-WR-TIMEZONE:Europe/Helsinki
BEGIN:VEVENT
SUMMARY:Povezovanje za podnebne ukrepe v Alpah
DTSTART;VALUE=DATE:20200915
DTEND;VALUE=DATE:20200918
DTSTAMP:20260421T093856Z
UID:489ef666f3a14427b48d711bc101c2e8@varnish:6081
CATEGORIES:event
CONTACT:https://www.alpconv.org/en/home/organization/thematic-working-bodi
 es/acb-matchmaking-workshop/
CREATED:20250419T201354Z
DESCRIPTION:Alpski odbor za podnebje vabi deležnike z vseh področij dela
 \, da se udeležijo spletne delavnice za navezovanje stikov. Program vklju
 čuje ključna predavanja o uspešnih partnerstvih\, interaktivne delavnic
 e\, prispevke o orodjih in metodah za spletno sodelovanje ter pogled na na
 daljnje korake v smeri podnebno nevtralnih in na podnebne spremembe odporn
 ih Alp do leta 2050.
LAST-MODIFIED:20250419T201354Z
LOCATION:Online
URL:https://climate-adapt.eea.europa.eu/sl/more-events/teaming-up-for-clim
 ate-action-in-the-alps
END:VEVENT
END:VCALENDAR
