BEGIN:VCALENDAR
VERSION:2.0
PRODID:-//Plone.org//NONSGML plone.app.event//EN
X-WR-TIMEZONE:Europe/Helsinki
BEGIN:VEVENT
SUMMARY:Tretji obalni simpozij – Obala v prehodu 2022
DTSTART;VALUE=DATE:20221109
DTEND;VALUE=DATE:20221112
DTSTAMP:20260419T212354Z
UID:f9146a12622544a187c993238d87316a@varnish:6081
CATEGORIES:event,coastal zone
CONTACT:https://deutsche-kuestenforschung.de/id-3rd-coastal-symposium.html
CREATED:20250419T201512Z
DESCRIPTION:Vse večji pritisk na evropske obale zaradi podnebnih sprememb
  in človekove uporabe povečuje potrebo po ukrepih za trajnostno upravlja
 nje obalnih območij. Tretji simpozij (prvi dan v nemščini\, drugi in tr
 etji dan v angleščini) združuje znanstvenike in strokovnjake ter je for
 um za izmenjavo mnenj o raziskovalnih temah\, kot je prilagajanje obalnih 
 območij\, ki temelji na naravi.
LAST-MODIFIED:20250419T201512Z
LOCATION:Hamburg\, Germany
URL:https://climate-adapt.eea.europa.eu/sl/more-events/third-coastal-sympo
 sium-coast-in-transition-2022
END:VEVENT
END:VCALENDAR
