BEGIN:VCALENDAR
VERSION:2.0
PRODID:-//Plone.org//NONSGML plone.app.event//EN
X-WR-TIMEZONE:Europe/Helsinki
BEGIN:VEVENT
SUMMARY:Spletni seminar o pomorskem prostorskem načrtovanju v spreminjajo
 čem se podnebju
DTSTART;TZID=Europe/Helsinki:20230209T120000
DTEND;TZID=Europe/Helsinki:20230209T130000
DTSTAMP:20260419T200342Z
UID:8717a4f5f98c46378345e51f702f363d@varnish:6081
CATEGORIES:Webinar,Climate impact,Maritime Spatial Planning
CREATED:20250419T201845Z
DESCRIPTION:Cilj pomorskega prostorskega načrtovanja je obvladovati vse v
 ečje povpraševanje tradicionalnih in nastajajočih sektorjev po morskem 
 prostoru in virih\, hkrati pa ohraniti morske ekosisteme in njihove storit
 ve. Ker je PPN dolgoročen in daljnosežen proces\, bi moral upoštevati n
 eposredne in posredne vplive podnebnih sprememb. Na spletnem seminarju bod
 o udeleženci iz mest in občin\, okrožij\, regij\, morskih in pomorskih 
 organov\, pomorskih in obalnih gospodarskih subjektov\, akademskih krogov 
 in organizacij civilne družbe obveščeni o vplivih podnebnih sprememb in
  možnostih za odpornost sektorja na podnebne spremembe. Potrebna je regis
 tracija.
LAST-MODIFIED:20250419T201846Z
LOCATION:Online
URL:https://climate-adapt.eea.europa.eu/sl/more-events/webinar-on-maritime
 -spatial-planning-in-a-changing-climate
END:VEVENT
BEGIN:VTIMEZONE
TZID:Europe/Helsinki
X-LIC-LOCATION:Europe/Helsinki
BEGIN:STANDARD
DTSTART:20221030T030000
TZNAME:EET
TZOFFSETFROM:+0300
TZOFFSETTO:+0200
END:STANDARD
END:VTIMEZONE
END:VCALENDAR
