BEGIN:VCALENDAR
VERSION:2.0
PRODID:-//Plone.org//NONSGML plone.app.event//EN
X-WR-TIMEZONE:Europe/Helsinki
BEGIN:VEVENT
SUMMARY:Pathways2Resilience İnovasyon Uygulama Grupları: 1. Hafta (Misyo
 n Projesi tarafından düzenlenen etkinlik)
DTSTART;TZID=Europe/Helsinki:20250310T100000
DTEND;TZID=Europe/Helsinki:20250314T163000
DTSTAMP:20260420T125921Z
UID:29f3507d822e47cf800c7ec438d1db53@climate-adapt.eea.europa.eu
CONTACT:https://www.pathways2resilience.eu/innovation-practice-week1
CREATED:20250422T175822Z
DESCRIPTION:10-14 Mart 2025 tarihleri arasında
LAST-MODIFIED:20251216T192427Z
URL:https://climate-adapt.eea.europa.eu/tr/mission/events/pathways2resilie
 nce-innovation-practice-groups-week-1
END:VEVENT
BEGIN:VTIMEZONE
TZID:Europe/Helsinki
X-LIC-LOCATION:Europe/Helsinki
BEGIN:STANDARD
DTSTART:20241027T030000
TZNAME:EET
TZOFFSETFROM:+0300
TZOFFSETTO:+0200
END:STANDARD
END:VTIMEZONE
END:VCALENDAR
