BEGIN:VCALENDAR
VERSION:2.0
PRODID:-//Plone.org//NONSGML plone.app.event//EN
X-WR-TIMEZONE:Europe/Helsinki
BEGIN:VEVENT
SUMMARY:Dirençli Şehirlerde 3. Açık Avrupa Günü 2016
DTSTART;VALUE=DATE:20160705
DTEND;VALUE=DATE:20160707
DTSTAMP:20260419T220910Z
UID:6265f18c1ebf4fa18426ff60d769211e@localhost:8001
CONTACT:http://resilientcities2016.iclei.org/open-european-day/
CREATED:20250413T144814Z
DESCRIPTION:AÇA ve ICLEI tarafından düzenlenen 3. Açık Avrupa Günü 
 (OED)\, 5 Temmuz'da Esnek Şehirler 2016 konferansı ile arka arkaya gerç
 ekleşecek.
LAST-MODIFIED:20251216T194425Z
LOCATION:Bonn\, Germany
URL:https://climate-adapt.eea.europa.eu/tr/more-events/3rd-open-european-d
 ay-at-resilient-cities-2016
END:VEVENT
END:VCALENDAR
