BEGIN:VCALENDAR
VERSION:2.0
PRODID:-//Plone.org//NONSGML plone.app.event//EN
X-WR-TIMEZONE:Europe/Helsinki
BEGIN:VEVENT
SUMMARY:4. Baltık Dünya Konferansı
DTSTART;VALUE=DATE:20220530
DTEND;VALUE=DATE:20220605
DTSTAMP:20260420T231846Z
UID:f1d9a1e626024a899a38fe2abff6779f@varnish:6081
CATEGORIES:Regional Earth system,Baltic sea,Regional climate variability
CONTACT:https://www.baltic-earth.eu/events/087774/index.php.en
CREATED:20250413T144823Z
DESCRIPTION:Baltık Denizi Bölgesi için Dünya Sistem Bilimi (Baltık D
 ünyası) tarafından düzenlenen 4. Baltık Dünya Konferansı\, 30 Mayı
 s 2022 - 03 Haziran 2022 tarihleri arasında Polonya'nın Hel Yarımadası
 \, Jastarnia'da gerçekleşecek. Konferans\, son dokuz yılda Baltık Dün
 yası'nın büyük zorluklarının ve araştırma temalarının çoğunu y
 ansıtan Baltık Dünya Değerlendirme Raporlarının (BEAR) konularını 
 kapsamaktadır. Tartışılması gereken bazı konular doğal tehlikeler v
 e aşırı olaylar\, deniz seviyesi dinamikleri ve kıyı erozyonu\, sürd
 ürülebilir yönetim seçenekleri\, geçmiş ve gelecekteki iklim değiş
 ikliklerinin analiz edilmesi ve modellenmesidir.
LAST-MODIFIED:20251216T194428Z
LOCATION:Jastarnia\, Hel Peninsula\, Poland
URL:https://climate-adapt.eea.europa.eu/tr/more-events/4th-baltic-earth-co
 nference
END:VEVENT
END:VCALENDAR
