BEGIN:VCALENDAR
VERSION:2.0
PRODID:-//Plone.org//NONSGML plone.app.event//EN
X-WR-TIMEZONE:Europe/Helsinki
BEGIN:VEVENT
SUMMARY:5. Küresel Afet Risk Azaltma Platformu
DTSTART;VALUE=DATE:20170522
DTEND;VALUE=DATE:20170528
DTSTAMP:20260421T062806Z
UID:49b2f9b4e1864260a80f6cea1cd4d5fc@localhost:8001
CONTACT:http://www.unisdr.org/conferences/2017/globalplatform
CREATED:20250413T144837Z
DESCRIPTION:2015-2030 Afet Riskinin Azaltılması için Sendai Çerçevesi
 'ne adanmış uluslararası forum\, 2015 yılında BM üye devletleri tara
 fından kabul edilmiştir.
LAST-MODIFIED:20251216T194433Z
LOCATION:Cancun\, Mexico
URL:https://climate-adapt.eea.europa.eu/tr/more-events/5th-global-platform
 -for-disaster-risk-reduction
END:VEVENT
END:VCALENDAR
