BEGIN:VCALENDAR
VERSION:2.0
PRODID:-//Plone.org//NONSGML plone.app.event//EN
X-WR-TIMEZONE:Europe/Helsinki
BEGIN:VEVENT
SUMMARY:Copernicus İklim Değişikliği Hizmetleri Konferansı & amp\; Ge
 nel Kurul
DTSTART;VALUE=DATE:20210518
DTEND;VALUE=DATE:20210522
DTSTAMP:20260420T012523Z
UID:c4d8a0a7618d44e2b46992e75508bce6@varnish:6081
CATEGORIES:event
CONTACT:https://climate.copernicus.eu/c3s-conference-general-assembly?q=c3
 s-4th-general-assembly
CREATED:20250413T145007Z
DESCRIPTION:İklim riski ve dayanıklılığı ile ilgileniyor musunuz? Co
 pernicus İklim Değişikliği Servisi (C3S) Konferansı &amp'a katılın\
 ; Genel Kurul\, üç öğleden sonra çevrimiçi sunumlar ve iklim izlemed
 eki en son gelişmeler hakkında tartışma\, önde gelen uluslararası ar
 aştırma enstitülerinden\, devlet hizmetlerinden ve özel sektör yenili
 kçilerinden konuşmacılar ve panelistler.
LAST-MODIFIED:20251216T194621Z
LOCATION:Online
URL:https://climate-adapt.eea.europa.eu/tr/more-events/c3s-conference-gene
 ral-assembly
END:VEVENT
END:VCALENDAR
