BEGIN:VCALENDAR
VERSION:2.0
PRODID:-//Plone.org//NONSGML plone.app.event//EN
X-WR-TIMEZONE:Europe/Helsinki
BEGIN:VEVENT
SUMMARY:AB Yeşil Haftası 2018
DTSTART;TZID=Europe/Helsinki:20180521T100000
DTEND;TZID=Europe/Helsinki:20180525T180000
DTSTAMP:20260420T220514Z
UID:8ba2413cc93d405785d4c18034cf4c0f@varnish:6081
CATEGORIES:event
CONTACT:https://www.eugreenweek.eu/
CREATED:20250413T145413Z
DESCRIPTION:AB Yeşil Haftası 2018\, farklı Avrupa şehirlerinde düzenl
 enecek ve AB'nin şehirlerin yaşamak ve çalışmak için daha iyi yerler
  haline gelmesine nasıl yardımcı olduğunu keşfedecek. İklim uyumu\, 
 iklim hizmetleri ve sürdürülebilir şehirlerin finansmanı ile ilgili o
 larak kentsel planlama ve kalkınma gibi konularda oturumlar düzenlenmekt
 edir. Ayrıca\, en iyi uygulamaları paylaşmak\, yerel yönetimleri ve va
 tandaşları dahil etmek ve onları sürdürülebilir bir gelecek vizyonla
 rını paylaşmaya teşvik etmek için yaklaşımlar ve araçlar teşvik e
 dilecektir.
LAST-MODIFIED:20251216T194923Z
LOCATION:Different European cities
URL:https://climate-adapt.eea.europa.eu/tr/more-events/eu-green-week-2018
END:VEVENT
BEGIN:VTIMEZONE
TZID:Europe/Helsinki
X-LIC-LOCATION:Europe/Helsinki
BEGIN:DAYLIGHT
DTSTART:20180325T040000
TZNAME:EEST
TZOFFSETFROM:+0200
TZOFFSETTO:+0300
END:DAYLIGHT
END:VTIMEZONE
END:VCALENDAR
