BEGIN:VCALENDAR
VERSION:2.0
PRODID:-//Plone.org//NONSGML plone.app.event//EN
X-WR-TIMEZONE:Europe/Helsinki
BEGIN:VEVENT
SUMMARY:AB Hazırlık Bilimi Konferansı
DTSTART;VALUE=DATE:20251104
DTEND;VALUE=DATE:20251107
DTSTAMP:20260419T195802Z
UID:809d5cd757194d6d9c14f4418f2f5596@climate-adapt.eea.europa.eu
CATEGORIES:DRMKC,CEMS
CONTACT:https://joint-research-centre.ec.europa.eu/events/eu-science-prepa
 redness-conference-2025-11-04_en
CREATED:20251216T102610Z
DESCRIPTION:Ortak Araştırma Merkezi'nin Kopernik Acil Durum Yönetimi Se
 rvisi ve Afet Risk Yönetimi Bilgi Merkezi tarafından düzenlenen bu konf
 erans\, bilgi alışverişi\, yeni araçların test edilmesi ve bilime day
 alı kriz hazırlığı ve yanıtını ilerletmeye kendini adamış diğer
  kişilerle bağlantı kurma fırsatları sağlayacaktır.
LAST-MODIFIED:20251216T214728Z
LOCATION:Turin\, Italy and livestream
URL:https://climate-adapt.eea.europa.eu/tr/more-events/eu-science-for-prep
 aredness-conference
END:VEVENT
END:VCALENDAR
