BEGIN:VCALENDAR
VERSION:2.0
PRODID:-//Plone.org//NONSGML plone.app.event//EN
X-WR-TIMEZONE:Europe/Helsinki
BEGIN:VEVENT
SUMMARY:Avrupa Okyanus Günleri'nde
DTSTART;VALUE=DATE:20260302
DTEND;VALUE=DATE:20260307
DTSTAMP:20260422T203204Z
UID:5ceda4f1d069483ea3de44acb166dfed@climate-adapt.eea.europa.eu
CATEGORIES:Event
CONTACT:https://maritime-forum.ec.europa.eu/theme/governance/european-ocea
 n-days_en
CREATED:20251216T230029Z
DESCRIPTION:Avrupa Okyanus Günleri\, iklim değişikliğine uyum da dahil
  olmak üzere okyanusla ilgili temel temalara odaklanan bir dizi dinamik v
 e birbirine bağlı oturumla bir hafta süren bir etkinliktir. Avrupa Okya
 nus Paktı'ndan esinlenen etkinliğin 3. baskısı\, endüstri liderlerini
 \, girişimleri\, yatırımcıları\, politika yapıcıları\, bilim insan
 larını\, KOBİ'leri\, balıkçılık ve su ürünleri yetiştiriciliği 
 temsilcilerini\, adaları ve kıyı topluluklarını\, Mission Ocean and W
 aters topluluğunu ve gençlik sesleri de dahil olmak üzere sivil toplumu
  bir araya getirecek.
LAST-MODIFIED:20260105T145032Z
LOCATION:Brussels\, Belgium
URL:https://climate-adapt.eea.europa.eu/tr/more-events/european-ocean-days
END:VEVENT
END:VCALENDAR
