BEGIN:VCALENDAR
VERSION:2.0
PRODID:-//Plone.org//NONSGML plone.app.event//EN
X-WR-TIMEZONE:Europe/Helsinki
BEGIN:VEVENT
SUMMARY:İklim Uyum Modellemesi Çalışması ile ilgili son toplantı
DTSTART;TZID=Europe/Helsinki:20220318T133000
DTEND;TZID=Europe/Helsinki:20220318T150000
DTSTAMP:20260420T054121Z
UID:73d2b9b487d14892a50ab71cc9ad2d34@varnish:6081
CATEGORIES:event,policy making
CONTACT:https://www.cmcc.it/lectures_conferences/study-on-climate-adaptati
 on-modelling-final-briefing
CREATED:20250413T145547Z
DESCRIPTION:Avrupa Komisyonu'nun DG CLIMA'sı tarafından yaptırılan ve 
 CMCC Vakfı tarafından koordine edilen bir grup uluslararası bilim insan
 ı tarafından yürütülen Adaptasyon Modellemesi Çalışması'nın sonu
 çları\, daha iyi bilgilendirilmiş karar vermeyi desteklemek amacıyla a
 daptasyon modellemesine odaklanmaktadır. Bu son etkinlik\, uyum politikas
 ı ortamının son evrimi ışığında çalışma sonuçlarını tartış
 acaktır.
LAST-MODIFIED:20251216T195027Z
LOCATION:Online
URL:https://climate-adapt.eea.europa.eu/tr/more-events/final-meeting-on-th
 e-study-on-climate-adaptation-modelling
END:VEVENT
BEGIN:VTIMEZONE
TZID:Europe/Helsinki
X-LIC-LOCATION:Europe/Helsinki
BEGIN:STANDARD
DTSTART:20211031T030000
TZNAME:EET
TZOFFSETFROM:+0300
TZOFFSETTO:+0200
END:STANDARD
END:VTIMEZONE
END:VCALENDAR
