BEGIN:VCALENDAR
VERSION:2.0
PRODID:-//Plone.org//NONSGML plone.app.event//EN
X-WR-TIMEZONE:Europe/Helsinki
BEGIN:VEVENT
SUMMARY:Dağ İnovasyon Fuarı 2023'te
DTSTART;VALUE=DATE:20231023
DTEND;VALUE=DATE:20231027
DTSTAMP:20260420T232339Z
UID:88f8186965a94aa5a49772177a36325f@climate-adapt.eea.europa.eu
CONTACT:https://www.eurac.edu/en/institutes-centers/center-for-global-moun
 tain-safeguard-research/news-events/mountain-innovation-fair-2023
CREATED:20250413T145916Z
DESCRIPTION:Dağlar YENİLİKÇİ: İklim değişikliğine uyum ve sürdü
 rülebilir dağ gelişimi için inovasyon ruhunu paylaşan işbirlikçi bi
 r alan. Etkinlik\, Birleşmiş Milletler Çevre Programı (UNEP) ve Birle
 şmiş Milletler Üniversitesi tarafından Avusturya Kalkınma İşbirliğ
 i (ADC) finansmanıyla UNU-EHS Küresel Dağ Koruma Araştırması (GLOMOS
 ) programı aracılığıyla Eurac Research'te düzenlenecektir.
LAST-MODIFIED:20251216T195249Z
LOCATION:Bolzano\, Italy
URL:https://climate-adapt.eea.europa.eu/tr/more-events/mountain-innovation
 -fair-2023
END:VEVENT
END:VCALENDAR
