BEGIN:VCALENDAR
VERSION:2.0
PRODID:-//Plone.org//NONSGML plone.app.event//EN
X-WR-TIMEZONE:Europe/Helsinki
BEGIN:VEVENT
SUMMARY:ÖĞRETMEN  ⁇  CE Final Konferansı
DTSTART;VALUE=DATE:20220202
DTEND;VALUE=DATE:20220205
DTSTAMP:20260420T194803Z
UID:086153b436af4d51acbb8000122ef7ae@varnish:6081
CONTACT:elisabeth.gerhardt@boku.ac.at\, https://www.interreg-central.eu/Co
 ntent.Node/TEACHER-CE.html
CREATED:20250413T150250Z
DESCRIPTION:İklim değişikliğinin sonuçları Orta Avrupa'da zaten gör
 ülüyor ve daha iyi risk yönetimi koordinasyonu çağrısında bulunuyor
 . TEACHER-CE\, daha önce finanse edilen INTERREG\, Horizon2020 ve Life pr
 ojelerinin sonuçlarını TEACHER-CE Araç Kutusuna entegre ederek ve uyum
 lu hale getirerek bu ihtiyacı giderir. Bu araç\, sel\, şiddetli yağmur
  ve kuraklık riskinin önlenmesi\, küçük su tutma önlemleri ve sürd
 ürülebilir arazi kullanımı yönetimi yoluyla su kaynaklarının korunm
 ası gibi suyla ilgili konuların iklime dayanıklı yönetimine odaklanac
 aktır. Doğrudan yerel ve bölgesel uygulama\, belediyelerin ve bölgeler
 in süreçlerini değişen iklim koşullarına uyarlamalarına yardımcı 
 olacaktır.
LAST-MODIFIED:20251216T200018Z
URL:https://climate-adapt.eea.europa.eu/tr/more-events/teacher-2013-ce-fin
 al-conference
END:VEVENT
END:VCALENDAR
