BEGIN:VCALENDAR
VERSION:2.0
PRODID:-//Plone.org//NONSGML plone.app.event//EN
X-WR-TIMEZONE:Europe/Helsinki
BEGIN:VEVENT
SUMMARY:Değişen bir iklimde deniz mekansal planlaması hakkında web sem
 ineri
DTSTART;TZID=Europe/Helsinki:20230209T120000
DTEND;TZID=Europe/Helsinki:20230209T130000
DTSTAMP:20260420T082921Z
UID:8717a4f5f98c46378345e51f702f363d@varnish:6081
CATEGORIES:Webinar,Climate impact,Maritime Spatial Planning
CREATED:20250413T150500Z
DESCRIPTION:Denizcilik Mekansal Planlaması (MSP)\, deniz ekosistemlerini 
 ve hizmetlerini korurken\, geleneksel ve gelişmekte olan sektörlerden ge
 len deniz alanı ve kaynaklarına yönelik artan taleple başa çıkmayı 
 amaçlamaktadır. Uzun vadeli ve geniş kapsamlı bir süreç olan MSP\, i
 klim değişikliğinin doğrudan ve dolaylı etkilerini dikkate almalıdı
 r. Webinar\, şehir ve belediyelerden\, ilçelerden\, bölgelerden\, deniz
  ve deniz otoritelerinden\, deniz ve kıyı ekonomi operatörlerinden\, ak
 ademi ve sivil toplum örgütlerinden katılımcıları iklim değişikli
 ğinin etkileri ve sektörü iklime dayanıklı hale getirme seçenekleri 
 hakkında bilgilendirecek. Kayıt gereklidir.
LAST-MODIFIED:20251216T195934Z
LOCATION:Online
URL:https://climate-adapt.eea.europa.eu/tr/more-events/webinar-on-maritime
 -spatial-planning-in-a-changing-climate
END:VEVENT
BEGIN:VTIMEZONE
TZID:Europe/Helsinki
X-LIC-LOCATION:Europe/Helsinki
BEGIN:STANDARD
DTSTART:20221030T030000
TZNAME:EET
TZOFFSETFROM:+0300
TZOFFSETTO:+0200
END:STANDARD
END:VTIMEZONE
END:VCALENDAR
