BEGIN:VCALENDAR
VERSION:2.0
PRODID:-//Plone.org//NONSGML plone.app.event//EN
X-WR-TIMEZONE:Europe/Helsinki
BEGIN:VEVENT
SUMMARY:Adaptation Futures 2020 (in 2021)
DTSTART;VALUE=DATE:20211005
DTEND;VALUE=DATE:20211010
DTSTAMP:20260425T130614Z
UID:e32b1694a61444f3bc08fa5c2b4b98b0@varnish:6081
CATEGORIES:global
CONTACT:http://adaptationfutures2020.in/
CREATED:20210811T114807Z
DESCRIPTION:The 6th in the Adaptation Futures international conference ser
 ies on global adaptation is the first one to be held in Asia. Adaptation F
 utures is a platform to facilitate dialogues towards action oriented solut
 ions from a diverse range of stakeholders that includes academia\, practit
 ioners\, scientists and policy makers from across the world. The European 
 Commission is involved in organizing this edition with contributions from 
 European countries and organizations.
LAST-MODIFIED:20220910T183615Z
LOCATION:Online and on-site in New Delhi
URL:https://climate-adapt.eea.europa.eu/en/more-events/adaptation-futures-
 2020-in-2021
END:VEVENT
END:VCALENDAR
