BEGIN:VCALENDAR
VERSION:2.0
PRODID:-//Plone.org//NONSGML plone.app.event//EN
X-WR-TIMEZONE:Europe/Helsinki
BEGIN:VEVENT
SUMMARY:KE4CAP project workshop: 'Climate Adaptation Platforms – Realizi
 ng the Value of Shared Learning'
DTSTART;VALUE=DATE:20210908
DTEND;VALUE=DATE:20210911
DTSTAMP:20260424T194914Z
UID:2bbb6f5ab144414c8dc3d799df4af08e@varnish:6081
CATEGORIES:portal
CONTACT:https://www.weadapt.org/knowledge-base/climate-change-adaptation-k
 nowledge-platforms/final-ke4cap-synthesis-workshop
CREATED:20210811T065940Z
DESCRIPTION:In this workshop\, co-organised by the European Environment Ag
 ency/Climate-ADAPT\, findings and key messages from the concluding KE4CAP 
 project\, funded by the European Commission\, will be presented. It aims t
 o understand the evolving policy and practice context within which climate
  adaptation platforms (CAPs) operate\, and to explore how knowledge exchan
 ge activities can help CAPs support multi-level governance of adaptation i
 n the future. This workshop will bring together the international CAP comm
 unity. It is  targeted towards organizations planning or preparing\, and m
 anaging adaptation knowledge platforms at various governance levels.
LAST-MODIFIED:20220910T183615Z
URL:https://climate-adapt.eea.europa.eu/en/more-events/ke4cap-project-work
 shop-climate-adaptation-platforms-2013-realizing-the-value-of-shared-learn
 ing
END:VEVENT
END:VCALENDAR
